Workbook

Sheet Schedule of Values
A1: Item No. | B1: Description of Work | C1: Scheduled Value | D1: From Previous Application | E1: This Period | F1: Materials Presently Stored | G1: Total Completed and Stored to Date | H1: % Complete | I1: Balance to Finish | J1: Retainage
A2: 01 | B2: General conditions | C2: 60000 | D2: 18000 | E2: 6000 | F2: 0 | G2: =IF(C2="","",D2+E2+F2) | H2: =IF(OR(C2="",C2=0),"",G2/C2) | I2: =IF(C2="","",C2-G2) | J2: =IF(C2="","",G2*Summary!$B$4)
A3: 02 | B3: Sitework | C3: 85000 | D3: 85000 | E3: 0 | F3: 0 | G3: =IF(C3="","",D3+E3+F3) | H3: =IF(OR(C3="",C3=0),"",G3/C3) | I3: =IF(C3="","",C3-G3) | J3: =IF(C3="","",G3*Summary!$B$4)
A4: 03 | B4: Concrete | C4: 140000 | D4: 98000 | E4: 28000 | F4: 0 | G4: =IF(C4="","",D4+E4+F4) | H4: =IF(OR(C4="",C4=0),"",G4/C4) | I4: =IF(C4="","",C4-G4) | J4: =IF(C4="","",G4*Summary!$B$4)
A5: 04 | B5: Masonry | C5: 45000 | D5: 0 | E5: 9000 | F5: 4500 | G5: =IF(C5="","",D5+E5+F5) | H5: =IF(OR(C5="",C5=0),"",G5/C5) | I5: =IF(C5="","",C5-G5) | J5: =IF(C5="","",G5*Summary!$B$4)
A6: 05 | B6: Metals | C6: 60000 | D6: 0 | E6: 0 | F6: 12000 | G6: =IF(C6="","",D6+E6+F6) | H6: =IF(OR(C6="",C6=0),"",G6/C6) | I6: =IF(C6="","",C6-G6) | J6: =IF(C6="","",G6*Summary!$B$4)
A7: 06 | B7: Wood and carpentry | C7: 70000 | D7: 0 | E7: 0 | F7: 0 | G7: =IF(C7="","",D7+E7+F7) | H7: =IF(OR(C7="",C7=0),"",G7/C7) | I7: =IF(C7="","",C7-G7) | J7: =IF(C7="","",G7*Summary!$B$4)
A8: 07 | B8: Thermal and moisture protection | C8: 55000 | D8: 0 | E8: 0 | F8: 0 | G8: =IF(C8="","",D8+E8+F8) | H8: =IF(OR(C8="",C8=0),"",G8/C8) | I8: =IF(C8="","",C8-G8) | J8: =IF(C8="","",G8*Summary!$B$4)
A9: 08 | B9: Doors and windows | C9: 65000 | D9: 0 | E9: 0 | F9: 0 | G9: =IF(C9="","",D9+E9+F9) | H9: =IF(OR(C9="",C9=0),"",G9/C9) | I9: =IF(C9="","",C9-G9) | J9: =IF(C9="","",G9*Summary!$B$4)
A10: 09 | B10: Finishes | C10: 90000 | D10: 0 | E10: 0 | F10: 0 | G10: =IF(C10="","",D10+E10+F10) | H10: =IF(OR(C10="",C10=0),"",G10/C10) | I10: =IF(C10="","",C10-G10) | J10: =IF(C10="","",G10*Summary!$B$4)
A11: 22-23 | B11: Plumbing and HVAC | C11: 110000 | D11: 11000 | E11: 16500 | F11: 0 | G11: =IF(C11="","",D11+E11+F11) | H11: =IF(OR(C11="",C11=0),"",G11/C11) | I11: =IF(C11="","",C11-G11) | J11: =IF(C11="","",G11*Summary!$B$4)
A12: 26 | B12: Electrical | C12: 70000 | D12: 7000 | E12: 10500 | F12: 0 | G12: =IF(C12="","",D12+E12+F12) | H12: =IF(OR(C12="",C12=0),"",G12/C12) | I12: =IF(C12="","",C12-G12) | J12: =IF(C12="","",G12*Summary!$B$4)
G13: =IF(C13="","",D13+E13+F13) | H13: =IF(OR(C13="",C13=0),"",G13/C13) | I13: =IF(C13="","",C13-G13) | J13: =IF(C13="","",G13*Summary!$B$4)
G14: =IF(C14="","",D14+E14+F14) | H14: =IF(OR(C14="",C14=0),"",G14/C14) | I14: =IF(C14="","",C14-G14) | J14: =IF(C14="","",G14*Summary!$B$4)
G15: =IF(C15="","",D15+E15+F15) | H15: =IF(OR(C15="",C15=0),"",G15/C15) | I15: =IF(C15="","",C15-G15) | J15: =IF(C15="","",G15*Summary!$B$4)
G16: =IF(C16="","",D16+E16+F16) | H16: =IF(OR(C16="",C16=0),"",G16/C16) | I16: =IF(C16="","",C16-G16) | J16: =IF(C16="","",G16*Summary!$B$4)
G17: =IF(C17="","",D17+E17+F17) | H17: =IF(OR(C17="",C17=0),"",G17/C17) | I17: =IF(C17="","",C17-G17) | J17: =IF(C17="","",G17*Summary!$B$4)
G18: =IF(C18="","",D18+E18+F18) | H18: =IF(OR(C18="",C18=0),"",G18/C18) | I18: =IF(C18="","",C18-G18) | J18: =IF(C18="","",G18*Summary!$B$4)
G19: =IF(C19="","",D19+E19+F19) | H19: =IF(OR(C19="",C19=0),"",G19/C19) | I19: =IF(C19="","",C19-G19) | J19: =IF(C19="","",G19*Summary!$B$4)
G20: =IF(C20="","",D20+E20+F20) | H20: =IF(OR(C20="",C20=0),"",G20/C20) | I20: =IF(C20="","",C20-G20) | J20: =IF(C20="","",G20*Summary!$B$4)
G21: =IF(C21="","",D21+E21+F21) | H21: =IF(OR(C21="",C21=0),"",G21/C21) | I21: =IF(C21="","",C21-G21) | J21: =IF(C21="","",G21*Summary!$B$4)
G22: =IF(C22="","",D22+E22+F22) | H22: =IF(OR(C22="",C22=0),"",G22/C22) | I22: =IF(C22="","",C22-G22) | J22: =IF(C22="","",G22*Summary!$B$4)
G23: =IF(C23="","",D23+E23+F23) | H23: =IF(OR(C23="",C23=0),"",G23/C23) | I23: =IF(C23="","",C23-G23) | J23: =IF(C23="","",G23*Summary!$B$4)
G24: =IF(C24="","",D24+E24+F24) | H24: =IF(OR(C24="",C24=0),"",G24/C24) | I24: =IF(C24="","",C24-G24) | J24: =IF(C24="","",G24*Summary!$B$4)
... G40: =IF(C40="","",D40+E40+F40) | H40: =IF(OR(C40="",C40=0),"",G40/C40) | I40: =IF(C40="","",C40-G40) | J40: =IF(C40="","",G40*Summary!$B$4)
B42: TOTALS | C42: =SUM(C2:C40) | D42: =SUM(D2:D40) | E42: =SUM(E2:E40) | F42: =SUM(F2:F40) | G42: =SUM(G2:G40) | H42: =IF(C42=0,"",G42/C42) | I42: =SUM(I2:I40) | J42: =SUM(J2:J40)

Sheet Summary
A1: AECify - Free Schedule of Values Template
A2: Enter line items on the Schedule of Values tab. Before each new billing period, copy Total Completed and Stored into From Previous Application and clear This Period.
A4: Retainage % (input) | B4: 0.1
A6: Total scheduled value (SOV lines) | B6: ='Schedule of Values'!C42
A7: Approved change orders not yet on the SOV (input) | B7: 0
A8: Contract sum to date | B8: =B6+B7
A9: Total completed and stored to date | B9: ='Schedule of Values'!G42
A10: Retainage | B10: ='Schedule of Values'!J42
A11: Total earned less retainage | B11: =B9-B10
A12: Less previous certificates for payment (input) | B12: 0
A13: Current payment due | B13: =B11-B12
A14: Balance to finish, including retainage | B14: =B8-B11
A16: Not an official AIA document. When billing outgrows the spreadsheet, try AECify pay applications: https://aecify.com/features/pay-applications
